BEGIN:VCALENDAR
VERSION:2.0
PRODID:-//RSIF - Region Stockholms IF - ECPv6.15.20//NONSGML v1.0//EN
CALSCALE:GREGORIAN
METHOD:PUBLISH
X-WR-CALNAME:RSIF - Region Stockholms IF
X-ORIGINAL-URL:https://regionstockholmsif.se
X-WR-CALDESC:Händelser för RSIF - Region Stockholms IF
REFRESH-INTERVAL;VALUE=DURATION:PT1H
X-Robots-Tag:noindex
X-PUBLISHED-TTL:PT1H
BEGIN:VTIMEZONE
TZID:Europe/Stockholm
BEGIN:DAYLIGHT
TZOFFSETFROM:+0100
TZOFFSETTO:+0200
TZNAME:CEST
DTSTART:20240331T010000
END:DAYLIGHT
BEGIN:STANDARD
TZOFFSETFROM:+0200
TZOFFSETTO:+0100
TZNAME:CET
DTSTART:20241027T010000
END:STANDARD
BEGIN:DAYLIGHT
TZOFFSETFROM:+0100
TZOFFSETTO:+0200
TZNAME:CEST
DTSTART:20250330T010000
END:DAYLIGHT
BEGIN:STANDARD
TZOFFSETFROM:+0200
TZOFFSETTO:+0100
TZNAME:CET
DTSTART:20251026T010000
END:STANDARD
BEGIN:DAYLIGHT
TZOFFSETFROM:+0100
TZOFFSETTO:+0200
TZNAME:CEST
DTSTART:20260329T010000
END:DAYLIGHT
BEGIN:STANDARD
TZOFFSETFROM:+0200
TZOFFSETTO:+0100
TZNAME:CET
DTSTART:20261025T010000
END:STANDARD
END:VTIMEZONE
BEGIN:VEVENT
DTSTART;TZID=Europe/Stockholm:20250611T180000
DTEND;TZID=Europe/Stockholm:20250611T200000
DTSTAMP:20260422T111923
CREATED:20250511T144319Z
LAST-MODIFIED:20260113T144310Z
UID:10000478-1749664800-1749672000@regionstockholmsif.se
SUMMARY:Sommaravslutning för RSIFs Fotoklubb 11 juni - 25
DESCRIPTION:RSIF Fotoklubb bjuder in till sommaravslutning 11 juni kl 18.00 \nVi ses vid Carl Elds ateljé i Bellevueparken kl 18.00\nVi bjuder på macka och dricka därför viktigt med anmälan på aktiviteter@rsiffoto.se\nGlöm inte att anmäla ev matallergier. \nOBS! Vid regn ses vi på Karolinska Eugeniavägen 18 som vanligt. \nVälkomna!
URL:https://regionstockholmsif.se/event/sommaravslutning-for-rsifs-fotoklubb-11-juni-25/
LOCATION:Carl Elds ateljé
CATEGORIES:Foto
ATTACH;FMTTYPE=image/jpeg:https://regionstockholmsif.se/wp-content/uploads/2025/05/NJF_4161.jpg
ORGANIZER;CN="RSIF Fotoklubb":MAILTO:info@rsiffoto.se
END:VEVENT
END:VCALENDAR