BEGIN:VCALENDAR
VERSION:2.0
PRODID:-//RSIF - Region Stockholms IF - ECPv6.15.20//NONSGML v1.0//EN
CALSCALE:GREGORIAN
METHOD:PUBLISH
X-ORIGINAL-URL:https://regionstockholmsif.se
X-WR-CALDESC:Händelser för RSIF - Region Stockholms IF
REFRESH-INTERVAL;VALUE=DURATION:PT1H
X-Robots-Tag:noindex
X-PUBLISHED-TTL:PT1H
BEGIN:VTIMEZONE
TZID:Europe/Stockholm
BEGIN:DAYLIGHT
TZOFFSETFROM:+0100
TZOFFSETTO:+0200
TZNAME:CEST
DTSTART:20240331T010000
END:DAYLIGHT
BEGIN:STANDARD
TZOFFSETFROM:+0200
TZOFFSETTO:+0100
TZNAME:CET
DTSTART:20241027T010000
END:STANDARD
BEGIN:DAYLIGHT
TZOFFSETFROM:+0100
TZOFFSETTO:+0200
TZNAME:CEST
DTSTART:20250330T010000
END:DAYLIGHT
BEGIN:STANDARD
TZOFFSETFROM:+0200
TZOFFSETTO:+0100
TZNAME:CET
DTSTART:20251026T010000
END:STANDARD
BEGIN:DAYLIGHT
TZOFFSETFROM:+0100
TZOFFSETTO:+0200
TZNAME:CEST
DTSTART:20260329T010000
END:DAYLIGHT
BEGIN:STANDARD
TZOFFSETFROM:+0200
TZOFFSETTO:+0100
TZNAME:CET
DTSTART:20261025T010000
END:STANDARD
END:VTIMEZONE
BEGIN:VEVENT
DTSTART;TZID=Europe/Stockholm:20250320T180000
DTEND;TZID=Europe/Stockholm:20250320T200000
DTSTAMP:20260422T235413
CREATED:20250309T100353Z
LAST-MODIFIED:20260113T141946Z
UID:10000451-1742493600-1742500800@regionstockholmsif.se
SUMMARY:RSIFFOTO Månadsträff 20 mars
DESCRIPTION:Välkommen till månadsträff kl 18.00 \n❖ Kim Reinfeldt RSIF berättar om RSIFs ändring till förening och vad det innebär för oss i fotoklubben\n❖ Bilddiskussion; månadens bild\n❖ Val av månadens bild april \nHar du någon kollega som är nyfiken på klubben och är anställd inom regionen\, ta gärna med dig kollegan till mötet. \nVi ses på Karolinskas Eugeniavägen 18 C\, 5 trp. Adressen gömmer sig en bit upp på fasaden men entrén är mitt på huset.\nVi har nu tillgång till fika\, köp med dig något till magen kom från kl 17.30. Mötet börjar kl 18.00 OBS! att porten låser kl 18.00. Kommer du efter kl 18 ring Johan 0709449234. \nAnmälan till aktiviteter@rsiffoto.se \n 
URL:https://regionstockholmsif.se/event/rsiffoto-manadstraff-20-mars/
LOCATION:Karolinska Solna\, Princeton\, Eugeniavägen 18c\, Stockholm\, Sverige
CATEGORIES:Foto
ATTACH;FMTTYPE=image/jpeg:https://regionstockholmsif.se/wp-content/uploads/2025/03/NJF_3057.jpg
ORGANIZER;CN="RSIF Fotoklubb":MAILTO:info@rsiffoto.se
GEO:59.34919;18.03421
X-APPLE-STRUCTURED-LOCATION;VALUE=URI;X-ADDRESS=Karolinska Solna Princeton Eugeniavägen 18c Stockholm Sverige;X-APPLE-RADIUS=500;X-TITLE=Eugeniavägen 18c:geo:18.03421,59.34919
END:VEVENT
END:VCALENDAR