BEGIN:VCALENDAR
VERSION:2.0
PRODID:-//RSIF - Region Stockholms IF - ECPv6.15.20//NONSGML v1.0//EN
CALSCALE:GREGORIAN
METHOD:PUBLISH
X-WR-CALNAME:RSIF - Region Stockholms IF
X-ORIGINAL-URL:https://regionstockholmsif.se
X-WR-CALDESC:Händelser för RSIF - Region Stockholms IF
REFRESH-INTERVAL;VALUE=DURATION:PT1H
X-Robots-Tag:noindex
X-PUBLISHED-TTL:PT1H
BEGIN:VTIMEZONE
TZID:Europe/Stockholm
BEGIN:DAYLIGHT
TZOFFSETFROM:+0100
TZOFFSETTO:+0200
TZNAME:CEST
DTSTART:20250330T010000
END:DAYLIGHT
BEGIN:STANDARD
TZOFFSETFROM:+0200
TZOFFSETTO:+0100
TZNAME:CET
DTSTART:20251026T010000
END:STANDARD
BEGIN:DAYLIGHT
TZOFFSETFROM:+0100
TZOFFSETTO:+0200
TZNAME:CEST
DTSTART:20260329T010000
END:DAYLIGHT
BEGIN:STANDARD
TZOFFSETFROM:+0200
TZOFFSETTO:+0100
TZNAME:CET
DTSTART:20261025T010000
END:STANDARD
BEGIN:DAYLIGHT
TZOFFSETFROM:+0100
TZOFFSETTO:+0200
TZNAME:CEST
DTSTART:20270328T010000
END:DAYLIGHT
BEGIN:STANDARD
TZOFFSETFROM:+0200
TZOFFSETTO:+0100
TZNAME:CET
DTSTART:20271031T010000
END:STANDARD
END:VTIMEZONE
BEGIN:VEVENT
DTSTART;TZID=Europe/Stockholm:20260411T110000
DTEND;TZID=Europe/Stockholm:20260411T140000
DTSTAMP:20260421T173903
CREATED:20260309T191040Z
LAST-MODIFIED:20260329T101856Z
UID:10001119-1775905200-1775916000@regionstockholmsif.se
SUMMARY:Fotoklubben aktivitet: Sofia 11 april
DESCRIPTION:Sofia och Vita bergen \nEn fotoaktivitet som ger allt\, andlig spis\, natur\, stad och människor\nVi träﬀas vid Nytorget 13 D-E lördagen den 11 april kl 11:00.\nVärd för aktiviteten: Åke \nAlla RSIF medlemmar är välkomna
URL:https://regionstockholmsif.se/event/fotoklubben-aktivitet-sofia-11-april/
LOCATION:Sofia kyrka\, Klefbecks backen 1\, Stockholm\, 11629
CATEGORIES:Foto
ATTACH;FMTTYPE=image/jpeg:https://regionstockholmsif.se/wp-content/uploads/2026/03/IMG_0534-2.jpg
ORGANIZER;CN="RSIF Fotoklubb":MAILTO:info@rsiffoto.se
END:VEVENT
END:VCALENDAR