BEGIN:VCALENDAR
VERSION:2.0
PRODID:-//RSIF - Region Stockholms IF - ECPv6.15.20//NONSGML v1.0//EN
CALSCALE:GREGORIAN
METHOD:PUBLISH
X-WR-CALNAME:RSIF - Region Stockholms IF
X-ORIGINAL-URL:https://regionstockholmsif.se
X-WR-CALDESC:Händelser för RSIF - Region Stockholms IF
REFRESH-INTERVAL;VALUE=DURATION:PT1H
X-Robots-Tag:noindex
X-PUBLISHED-TTL:PT1H
BEGIN:VTIMEZONE
TZID:Europe/Stockholm
BEGIN:DAYLIGHT
TZOFFSETFROM:+0100
TZOFFSETTO:+0200
TZNAME:CEST
DTSTART:20230326T010000
END:DAYLIGHT
BEGIN:STANDARD
TZOFFSETFROM:+0200
TZOFFSETTO:+0100
TZNAME:CET
DTSTART:20231029T010000
END:STANDARD
BEGIN:DAYLIGHT
TZOFFSETFROM:+0100
TZOFFSETTO:+0200
TZNAME:CEST
DTSTART:20240331T010000
END:DAYLIGHT
BEGIN:STANDARD
TZOFFSETFROM:+0200
TZOFFSETTO:+0100
TZNAME:CET
DTSTART:20241027T010000
END:STANDARD
BEGIN:DAYLIGHT
TZOFFSETFROM:+0100
TZOFFSETTO:+0200
TZNAME:CEST
DTSTART:20250330T010000
END:DAYLIGHT
BEGIN:STANDARD
TZOFFSETFROM:+0200
TZOFFSETTO:+0100
TZNAME:CET
DTSTART:20251026T010000
END:STANDARD
END:VTIMEZONE
BEGIN:VEVENT
DTSTART;TZID=Europe/Stockholm:20240314T000000
DTEND;TZID=Europe/Stockholm:20240317T000000
DTSTAMP:20260426T031704
CREATED:20231215T180739Z
LAST-MODIFIED:20231215T180739Z
UID:10000313-1710374400-1710633600@regionstockholmsif.se
SUMMARY:Vinterns skidresa med Region Stockholm går till Tänndalen 14 – 17 mars 2024
DESCRIPTION:Nu är det dags för vintersäsongens höjdpunkt – skidresan där allt ingår. Missa inte en helg full av skid-\noch brädåkning. Det här är ett perfekt sätt att både umgås\, ha kul och samtidigt komma tillbaka på\nmåndag som en ännu bättre skid- eller brädåkare. \nVi åker till Tänndalen\nSkidsystemet serverar 54 omväxlande nedfarter\, både ovan och nedanför trädgränsen. \nOm resan\nResan arrangeras av IF Oliven i samarbete med Friluftsfrämjandet\, Snösäker. Under förmiddagarna\ndelar vi in oss i grupper efter vald nivå och åker med guider från Snösäker. De hjälper oss att utveckla\nvår åkning\, visar oss guldkornen både i och utanför pisten. Alla guider är välutbildade skid-\nsnowboardinstruktörer från Friluftsfrämjandet. På eftermiddagarna åker man precis var och hur man\nsjälv vill. \nAvresa och hemresa\nAvresa med buss från Cityterminalen\, Stockholm\, torsdagen den 14 mars\, klockan 14.30. Samling\nsenast klockan 14.00 vid gaten. Hemresa från Tänndalen söndagen den 17 mars klockan 14.00 och\nåter i Stockholm vid midnatt. \nPris och anmälan\nResan kostar 6 490 kronor. Anmälan är öppen för alla som är anställda i Region Stockholm. Du kan\näven ta med dig familjemedlemmar och vänner (18-års åldersgräns).  Resan arrangeras tillsammans\nmed Friluftsfrämjandet som har ett medlemskrav. Mer information om medlemskapet hittar du på\nanmälningssidan. Anställda inom Region Stockholm ska vara medlemmar i någon av RSIF (Region\nStockholm Idrotts- och friskvårdsförbund) föreningar under år 2024. Om din arbetsplats inte har någon\nförening kan du bli medlem i IF Oliven som står öppen för alla inom Region Stockholm.\nAnställda inom Region Stockholm och medlemmar i IF Oliven får 10 procent rabatt. Rabatten betalas\ntillbaka när du har betalt resan och löst in medlemsavgift för år 2024 (medlemskap för 2024 öppnar 3/1 2024). Skicka ett mejl till\nbirgitta.braysy@sl.se när du betalt resan och ditt medlemnummer för IF Oliven så ordnar vi med\nrabatten när resan är genomförd. \nI priset ingår\n Resa med buss tur &amp; retur (från Stockholm\, Uppsala eller Gävle)\n Boende i lägenheter\, delat sovrum. Bastu finns\n Städning av lägenhet\n Helpension med 2-rätters middag på lördagen\n Middag på bussresan tur och retur\n Tre dagars liftkort\n Guidad åkning i grupp på förmiddagarna\n Snösäkers guideservice under hela resan \nI priset ingår inte\n Dryck till middagarna\n Skid- och brädutrustning\n Sängkläder och handduk \nSista anmälningsdag\nSista anmälnings- och betalningsdag är den 12 februari (hela beloppet). Anmälan är bindande\, men\nskulle du få förhinder kan resan överlåtas. Mer om avbokningsregler kan du läsa på anmälningssidan.\nVi har plats för 42 deltagare och principen först till kvarn gäller. \nAnmälningslänk\nSnösäker Region Stockholm 24552 – Friluftsfrämjandet (friluftsframjandet.se) \nVälkommen!\nIF Oliven i samarbete med Snösäker\, Friluftsfrämjandet.\nIF Oliven är en förening i Region Stockholms idrotts- och friskvårdsförbund (RSIF). \nKontakt\nBirgitta Bräysy\, Trafikförvaltningen\, Region Stockholm\nbirgitta.braysy@sl.se\nMobil: 070 786 3348 \nYlva Schöldberg\, Friluftsfrämjandet Region Mälardalen\nylva.scholdberg@friluftsframjandet.se\nTelefon: 08-556 307 49
URL:https://regionstockholmsif.se/event/vinterns-skidresa-med-region-stockholm-gar-till-tanndalen-14-17-mars-2024/
ATTACH;FMTTYPE=image/png:https://regionstockholmsif.se/wp-content/uploads/2023/12/tanndalen.png
END:VEVENT
END:VCALENDAR