BEGIN:VCALENDAR
VERSION:2.0
PRODID:-//RSIF - Region Stockholms IF - ECPv6.15.20//NONSGML v1.0//EN
CALSCALE:GREGORIAN
METHOD:PUBLISH
X-ORIGINAL-URL:https://regionstockholmsif.se
X-WR-CALDESC:Händelser för RSIF - Region Stockholms IF
REFRESH-INTERVAL;VALUE=DURATION:PT1H
X-Robots-Tag:noindex
X-PUBLISHED-TTL:PT1H
BEGIN:VTIMEZONE
TZID:Europe/Stockholm
BEGIN:DAYLIGHT
TZOFFSETFROM:+0100
TZOFFSETTO:+0200
TZNAME:CEST
DTSTART:20240331T010000
END:DAYLIGHT
BEGIN:STANDARD
TZOFFSETFROM:+0200
TZOFFSETTO:+0100
TZNAME:CET
DTSTART:20241027T010000
END:STANDARD
BEGIN:DAYLIGHT
TZOFFSETFROM:+0100
TZOFFSETTO:+0200
TZNAME:CEST
DTSTART:20250330T010000
END:DAYLIGHT
BEGIN:STANDARD
TZOFFSETFROM:+0200
TZOFFSETTO:+0100
TZNAME:CET
DTSTART:20251026T010000
END:STANDARD
BEGIN:DAYLIGHT
TZOFFSETFROM:+0100
TZOFFSETTO:+0200
TZNAME:CEST
DTSTART:20260329T010000
END:DAYLIGHT
BEGIN:STANDARD
TZOFFSETFROM:+0200
TZOFFSETTO:+0100
TZNAME:CET
DTSTART:20261025T010000
END:STANDARD
END:VTIMEZONE
BEGIN:VEVENT
DTSTART;TZID=Europe/Stockholm:20250313T140000
DTEND;TZID=Europe/Stockholm:20250316T233000
DTSTAMP:20260424T153827
CREATED:20241126T180158Z
LAST-MODIFIED:20260113T145023Z
UID:10000407-1741874400-1742167800@regionstockholmsif.se
SUMMARY:Häng med på skidäventyr till Ramundberget 13–16 mars
DESCRIPTION:Vinterns höjdpunkt för Region Stockholm är här – följ med på skidresan där allt ingår! \nPacka skidor eller snowboard och gör dig redo för en helg fylld av äventyr\, gemenskap och utveckling i Ramundbergets fantastiska skidområde. Oavsett om du är nybörjare eller erfaren åkare är detta en chans att ha kul\, finslipa tekniken och njuta av fjällvärlden. \nDestination: Ramundberget\nRamundberget erbjuder varierad skidåkning med 10 liftar\, 47 nedfarter samt friåkningsområden och snowparks för både nybörjare och erfarna åkare. \nProgram och upplägg\n\nFörmiddagar: Åkning i grupper efter nivå tillsammans med erfarna guider från Snösäker och Friluftsfrämjande\, som visar oss både skidbackarna och den omgivande fjällmiljöns bästa platser.\nEftermiddagar: Fri åkning där du utforskar i din egen takt.\n\nResan arrangeras av IF Oliven i samarbete med Friluftsfrämjandet och Snösäker. \nPraktisk information\n\nAvresa: Torsdag 13 mars klockan 14.30 från Cityterminalen i Stockholm (samling senast klockan 14.00).\nHemresa: Söndag 16 mars klockan 14.00 från Tänndalen\, tillbaka i Stockholm vid midnatt.\nPris: 6 990 kronor/person.\n\nResan är öppen för anställda inom Region Stockholm som är medlemmar i någon av RSIF:s föreningar. Du kan också ta med familjemedlemmar och vänner (åldersgräns 18 år). För att delta krävs även medlemskap i Friluftsfrämjandet. \nOm din arbetsplats saknar en RSIF-förening kan du bli medlem i IF Oliven\, som är öppen för alla anställda inom Region Stockholm. \nSom medlem i IF Oliven får du dessutom 10 procent rabatt på resan\, vilken dras av efter att resan har genomförts. \nDet här ingår i priset\n\nBussresa tur och retur (Stockholm\, Uppsala eller Gävle). Inklusive middag.\nBoende i flerbäddslägenheter nära backen (inkl. städning). Bastu finns.\nHelpension inklusive en 2-rätters middag på lördagen.\nLiftkort för tre dagar.\nGuidad åkning i grupp under förmiddagarna.\nTillgång till Snösäkers guideservice hela helgen.\n\nIngår ej:\n\nDryck till middagar.\nSängkläder och handduk.\nSkid- och snowboardutrustning (kan hyras via Ramundberget).\n\nAnmälan och villkor\n\nSista anmälningsdag: 26 januari 2024.\nAnmälan är bindande\, men resan kan överlåtas vid förhinder. Fullständiga avbokningsregler finns på anmälningssidan.\nPlatserna är begränsade till 42 deltagare\, så först till kvarn gäller!\n\nAnmälningslänk:\nSnösäker: Skidresa till Ramundberget \nKontakt\n\nBirgitta Bräysy\, Trafikförvaltningen\, Region Stockholm\nbirgitta.braysy@sl.se | 070-786 33 48\nYlva Schöldberg\, Friluftsfrämjandet Region Mälardalen ylva.scholdberg@friluftsframjandet.se | 08-556 307 49\n\nVälkommen önskar IF Oliven och Friluftsfrämjandet! \nVi ser fram emot en härlig skidhelg tillsammans i fjällvärlden!
URL:https://regionstockholmsif.se/event/skidresa-till-ramundberget/
LOCATION:Ramundberget
CATEGORIES:Skidor
ATTACH;FMTTYPE=image/jpeg:https://regionstockholmsif.se/wp-content/uploads/2024/11/glade-optics-i-30st7mgae-unsplash_1280-720.jpg
END:VEVENT
END:VCALENDAR