BEGIN:VCALENDAR
VERSION:2.0
PRODID:-//RSIF - Region Stockholms IF - ECPv6.15.20//NONSGML v1.0//EN
CALSCALE:GREGORIAN
METHOD:PUBLISH
X-ORIGINAL-URL:https://regionstockholmsif.se
X-WR-CALDESC:Händelser för RSIF - Region Stockholms IF
REFRESH-INTERVAL;VALUE=DURATION:PT1H
X-Robots-Tag:noindex
X-PUBLISHED-TTL:PT1H
BEGIN:VTIMEZONE
TZID:Europe/Stockholm
BEGIN:DAYLIGHT
TZOFFSETFROM:+0100
TZOFFSETTO:+0200
TZNAME:CEST
DTSTART:20230326T010000
END:DAYLIGHT
BEGIN:STANDARD
TZOFFSETFROM:+0200
TZOFFSETTO:+0100
TZNAME:CET
DTSTART:20231029T010000
END:STANDARD
BEGIN:DAYLIGHT
TZOFFSETFROM:+0100
TZOFFSETTO:+0200
TZNAME:CEST
DTSTART:20240331T010000
END:DAYLIGHT
BEGIN:STANDARD
TZOFFSETFROM:+0200
TZOFFSETTO:+0100
TZNAME:CET
DTSTART:20241027T010000
END:STANDARD
BEGIN:DAYLIGHT
TZOFFSETFROM:+0100
TZOFFSETTO:+0200
TZNAME:CEST
DTSTART:20250330T010000
END:DAYLIGHT
BEGIN:STANDARD
TZOFFSETFROM:+0200
TZOFFSETTO:+0100
TZNAME:CET
DTSTART:20251026T010000
END:STANDARD
END:VTIMEZONE
BEGIN:VEVENT
DTSTART;TZID=Europe/Stockholm:20240326T180000
DTEND;TZID=Europe/Stockholm:20240326T190000
DTSTAMP:20260422T081042
CREATED:20240301T124439Z
LAST-MODIFIED:20240303T095736Z
UID:10000348-1711476000-1711479600@regionstockholmsif.se
SUMMARY:Bildföredrag med naturfotograf Anki Hammar
DESCRIPTION:Är du naturintresserad\, gillar vackra bilder och tycker om eller skulle vilja börja fotografera?\nLåt dig då inspireras och förundras under fotograf Anki Hammars bildföredrag! Under en timme får du njuta av bilder från böljande landskap från Tjeckien\, närbilder (makro) där färg och form är tongivande och fågelbilder där ljus och rörelse är prioritet och fågeln sekundär. Anki Hammar är en känd naturfotograf från Stockholm som fotograferar stora som små landskap och fåglar. \nRegion Stockholms fotoklubb står som värd och bjuder in dig och andra nyfikna i Region Stockholm till detta bildföredrag. Om du vill komma in i ett fotosammanhang är fotoklubben ett mycket trevligt\, utvecklande och socialt alternativ. Passa då på att prata med fotoklubbens styrelse och medlemmar under kvällen. Men det går naturligtvis bra att komma för en stunds njutning och avkoppling som vackra naturbilder kan ge. \nObs! Fotoklubbens medlemmar ser fotoföredraget utan kostnad. \nEfter föredraget har fotoklubben sitt årsmöte som är öppet för dess medlemmar. Fotoklubbens hemsida där du även kan söka medlemskap: https://regionstockholmsif.se/rsiffoto/ \nNär: 26 mars \nTid: 18.00-19.00 \nPris: 50 kronor \nLokal  Konferensrum Kerstin Hagenfeldt J3:14. Gå in i huvudentrén\, håll vänster förbi Pressbyrån och fortsätt in bakom stora trappan. När du kommit in i Konferensbyggnaden gå vänster efter receptionen och sedan höger\, längst in ligger Kerstin Hagenfeldt.\nKarolinska Universitetssjukhuset Solna\, Eugeniavägen 3. \nAnmäl dig här \n 
URL:https://regionstockholmsif.se/event/bildforedrag-med-naturfotograf-anki-hammar/
LOCATION:Karolinska Universitetssjukhuset Solna\, Eugeniavägen 3\, Stockholm\, 171 54
ORGANIZER;CN="Region Stockholms IF":MAILTO:kansli@rsif.se
GEO:59.34919;18.03421
X-APPLE-STRUCTURED-LOCATION;VALUE=URI;X-ADDRESS=Karolinska Universitetssjukhuset Solna Eugeniavägen 3 Stockholm 171 54;X-APPLE-RADIUS=500;X-TITLE=Eugeniavägen 3:geo:18.03421,59.34919
END:VEVENT
BEGIN:VEVENT
DTSTART;TZID=Europe/Stockholm:20240326T180000
DTEND;TZID=Europe/Stockholm:20240326T200000
DTSTAMP:20260422T081042
CREATED:20240201T164646Z
LAST-MODIFIED:20260113T141948Z
UID:10000336-1711476000-1711483200@regionstockholmsif.se
SUMMARY:RSIFFOTO - Årsmöte och bildföredrag
DESCRIPTION:Välkommen till månadsträff och årsmöte \nPå månadsträffen kommer Anki Hammar\, som visar böljande landskap från Tjeckien\, makro där form och färg är tongivande och fåglar där ljus och rörelse är prioritet och fågeln sekundär.\nAnki Hammar\, naturfotograf från Stockholm som fotograferar allt från stora som små landskap och fåglar.\nKlockan 18.00 – 19.00\, föreläsningen är öppen för alla medlemmar i RSIF. Kostnad 50 kronor för icke fotoklubbsmedlem.\nKl 19.00 – 20.00 tar årsmötet vid. \nLokal  Konferensrum Kerstin Hagenfeldt J3:14. Gå in i huvudentrén\, håll vänster förbi Pressbyrån och fortsätt in bakom stora trappan. När du kommit in i Konferensbyggnaden gå vänster efter receptionen och sedan höger\, längst in ligger Kerstin Hagenfeldt.\nKarolinska Universitetssjukhuset Solna\, Eugeniavägen 3. \nAnmäl dig här RSIF Memlist
URL:https://regionstockholmsif.se/event/rsiffoto-manadstraff-och-arsmote-26-mars/
CATEGORIES:Foto
ATTACH;FMTTYPE=image/jpeg:https://regionstockholmsif.se/wp-content/uploads/2022/12/sofia-fotao.jpg
END:VEVENT
END:VCALENDAR