BEGIN:VCALENDAR
VERSION:2.0
PRODID:-//RSIF - Region Stockholms IF - ECPv6.15.20//NONSGML v1.0//EN
CALSCALE:GREGORIAN
METHOD:PUBLISH
X-ORIGINAL-URL:https://regionstockholmsif.se
X-WR-CALDESC:Händelser för RSIF - Region Stockholms IF
REFRESH-INTERVAL;VALUE=DURATION:PT1H
X-Robots-Tag:noindex
X-PUBLISHED-TTL:PT1H
BEGIN:VTIMEZONE
TZID:Europe/Stockholm
BEGIN:DAYLIGHT
TZOFFSETFROM:+0100
TZOFFSETTO:+0200
TZNAME:CEST
DTSTART:20230326T010000
END:DAYLIGHT
BEGIN:STANDARD
TZOFFSETFROM:+0200
TZOFFSETTO:+0100
TZNAME:CET
DTSTART:20231029T010000
END:STANDARD
BEGIN:DAYLIGHT
TZOFFSETFROM:+0100
TZOFFSETTO:+0200
TZNAME:CEST
DTSTART:20240331T010000
END:DAYLIGHT
BEGIN:STANDARD
TZOFFSETFROM:+0200
TZOFFSETTO:+0100
TZNAME:CET
DTSTART:20241027T010000
END:STANDARD
BEGIN:DAYLIGHT
TZOFFSETFROM:+0100
TZOFFSETTO:+0200
TZNAME:CEST
DTSTART:20250330T010000
END:DAYLIGHT
BEGIN:STANDARD
TZOFFSETFROM:+0200
TZOFFSETTO:+0100
TZNAME:CET
DTSTART:20251026T010000
END:STANDARD
END:VTIMEZONE
BEGIN:VEVENT
DTSTART;TZID=Europe/Stockholm:20240618T180000
DTEND;TZID=Europe/Stockholm:20240618T200000
DTSTAMP:20260422T032845
CREATED:20240512T084140Z
LAST-MODIFIED:20260113T141947Z
UID:10000361-1718733600-1718740800@regionstockholmsif.se
SUMMARY:Sommaravslutning för RSIFs Fotoklubb 18 juni - 24
DESCRIPTION:RSIF Fotoklubb bjuder in till sommaravslutning 18 juni kl 18.00 \nVi ses vid Carl Elds ateljé i Bellevueparken kl 18.00\nVi bjuder på macka och dricka därför viktigt med anmälan\nGlöm inte att anmäla ev matallergier till aktiviteter@rsiffoto.se \nVälkomna! \nPs. För karta se biljetten. \n  \n  \n 
URL:https://regionstockholmsif.se/event/sommaravslutning-for-rsifs-fotoklubb-18-juni-24/
LOCATION:Carl Elds ateljé
CATEGORIES:Foto
ORGANIZER;CN="RSIF Fotoklubb":MAILTO:info@rsiffoto.se
END:VEVENT
END:VCALENDAR