BEGIN:VCALENDAR
VERSION:2.0
PRODID:-//RSIF - Region Stockholms IF - ECPv6.15.20//NONSGML v1.0//EN
CALSCALE:GREGORIAN
METHOD:PUBLISH
X-ORIGINAL-URL:https://regionstockholmsif.se
X-WR-CALDESC:Händelser för RSIF - Region Stockholms IF
REFRESH-INTERVAL;VALUE=DURATION:PT1H
X-Robots-Tag:noindex
X-PUBLISHED-TTL:PT1H
BEGIN:VTIMEZONE
TZID:Europe/Stockholm
BEGIN:DAYLIGHT
TZOFFSETFROM:+0100
TZOFFSETTO:+0200
TZNAME:CEST
DTSTART:20250330T010000
END:DAYLIGHT
BEGIN:STANDARD
TZOFFSETFROM:+0200
TZOFFSETTO:+0100
TZNAME:CET
DTSTART:20251026T010000
END:STANDARD
BEGIN:DAYLIGHT
TZOFFSETFROM:+0100
TZOFFSETTO:+0200
TZNAME:CEST
DTSTART:20260329T010000
END:DAYLIGHT
BEGIN:STANDARD
TZOFFSETFROM:+0200
TZOFFSETTO:+0100
TZNAME:CET
DTSTART:20261025T010000
END:STANDARD
BEGIN:DAYLIGHT
TZOFFSETFROM:+0100
TZOFFSETTO:+0200
TZNAME:CEST
DTSTART:20270328T010000
END:DAYLIGHT
BEGIN:STANDARD
TZOFFSETFROM:+0200
TZOFFSETTO:+0100
TZNAME:CET
DTSTART:20271031T010000
END:STANDARD
END:VTIMEZONE
BEGIN:VEVENT
DTSTART;TZID=Europe/Stockholm:20260528T180000
DTEND;TZID=Europe/Stockholm:20260528T200000
DTSTAMP:20260420T213443
CREATED:20251107T155658Z
LAST-MODIFIED:20260310T201406Z
UID:10000587-1779991200-1779998400@regionstockholmsif.se
SUMMARY:Fotoklubben Månadsträff Maj
DESCRIPTION:Månadsträﬀ 28 maj\n• Reseskildring genom bilder; Maria visar bilder från Amazonas.\n• Vi lär av varandra; Pelle pratar bildkomposition.\n• Bilddiskussion; majs temabild\n• Val av månadens bild juni \nVåra träffar är på Karolinskas administrativa avdelning\,\nEugeniavägen 18 C\, 5 tr.\nKaffe finns. Ta med dig eget tilltugg om du önskar.\nOBS! Porten låses kl 18\, kommer du senare ring Johan 0709449234. \nMånadens bild\n1 bild/fotograf mejlas till foton@rsiffoto.se\nFormatet ska vara .jpg med längsta sidan 1200 pixlar.\nDöp filen till namn.tema.jpg (ex. Marie action.jpg).
URL:https://regionstockholmsif.se/event/fotoklubben-manadstraff-maj/
LOCATION:Karolinskas administrativa avdelning\, Eugeniavägen 18 C\, 5 tr\, Solna
CATEGORIES:Foto
ATTACH;FMTTYPE=image/jpeg:https://regionstockholmsif.se/wp-content/uploads/2026/03/78A3090-2.jpg
ORGANIZER;CN="RSIF Fotoklubb":MAILTO:info@rsiffoto.se
END:VEVENT
END:VCALENDAR