BEGIN:VCALENDAR
VERSION:2.0
PRODID:-//RSIF - Region Stockholms IF - ECPv6.15.20//NONSGML v1.0//EN
CALSCALE:GREGORIAN
METHOD:PUBLISH
X-WR-CALNAME:RSIF - Region Stockholms IF
X-ORIGINAL-URL:https://regionstockholmsif.se
X-WR-CALDESC:Händelser för RSIF - Region Stockholms IF
REFRESH-INTERVAL;VALUE=DURATION:PT1H
X-Robots-Tag:noindex
X-PUBLISHED-TTL:PT1H
BEGIN:VTIMEZONE
TZID:Europe/Stockholm
BEGIN:DAYLIGHT
TZOFFSETFROM:+0100
TZOFFSETTO:+0200
TZNAME:CEST
DTSTART:20240331T010000
END:DAYLIGHT
BEGIN:STANDARD
TZOFFSETFROM:+0200
TZOFFSETTO:+0100
TZNAME:CET
DTSTART:20241027T010000
END:STANDARD
BEGIN:DAYLIGHT
TZOFFSETFROM:+0100
TZOFFSETTO:+0200
TZNAME:CEST
DTSTART:20250330T010000
END:DAYLIGHT
BEGIN:STANDARD
TZOFFSETFROM:+0200
TZOFFSETTO:+0100
TZNAME:CET
DTSTART:20251026T010000
END:STANDARD
BEGIN:DAYLIGHT
TZOFFSETFROM:+0100
TZOFFSETTO:+0200
TZNAME:CEST
DTSTART:20260329T010000
END:DAYLIGHT
BEGIN:STANDARD
TZOFFSETFROM:+0200
TZOFFSETTO:+0100
TZNAME:CET
DTSTART:20261025T010000
END:STANDARD
END:VTIMEZONE
BEGIN:VEVENT
DTSTART;TZID=Europe/Stockholm:20251214T100000
DTEND;TZID=Europe/Stockholm:20251214T140000
DTSTAMP:20260422T043646
CREATED:20251127T184525Z
LAST-MODIFIED:20251208T141326Z
UID:10000596-1765706400-1765720800@regionstockholmsif.se
SUMMARY:Söndagspromenad - Vanadislunden\, Hagastaden\, Karlberg slottspark
DESCRIPTION:Söndagen den 14.e december 2025 \nSamling: klockan 10.00 utanför spärrarna vi Odenplans T-bana\, uppgången mot Odenplan\, där RSIFs promenadvärdar möter upp\, du känner igen dem på de neongröna ryggsäckarna. \nFör vem: Medlemmar i RSIF 2025 Alla som jobbar i Region Stockholm kan bli medlemmar och ett medlemskap kostar endast 100 kr per kalenderår och ger dig möjlighet att delta i flera av RSIFs evenemang.\nDu är lika välkommen ensam som tillsammans med en familjemedlem eller vän\, men minst en av er är måste vara medlem i RSIF.  \nVanadislunden är en av Stockholms största parker och har fått sitt namn efter gudinnan Vanadis. Parken sträcker sig upp på en höjd där man har en jättefin utsikt över stadens takåsar. \nDe första boende flyttade in i Hagastaden 2017 och 2024 invigdes en stor del av den nya Norra Stationsparken med växtligheter och nya konstverk\, men först omkring år 2030 planeras den nya stadsdelen stå helt klar. \nKarlbergs slottspark är en av Stockholms äldsta parker och ligger bara en kort promenad från Hagastaden. \nRast: Vi har en rast då vi fikar inomhus på café.   \nKontrollera alltid SMHIs väder kvällen innan och ta med kläder efter väder. \nPromenadvärdar: Anneli och Eva \nAvgift: Deltagandet är gratis och ingen föranmälan krävs. \nBli medlem  \nHär kan du läsa mera om Söndagspromenaderna och Promenadnätverket  \n 
URL:https://regionstockholmsif.se/event/sondagspromenad-vanadislunden-hagastaden-karlberg-slottspark/
CATEGORIES:Promenad
ATTACH;FMTTYPE=image/jpeg:https://regionstockholmsif.se/wp-content/uploads/2025/03/Sondagspromenad-e1765202594441.jpg
ORGANIZER;CN="RSIFs promenadn%C3%A4tverk":MAILTO:anneli.karlman@regionstockholm.se
END:VEVENT
END:VCALENDAR