BEGIN:VCALENDAR
VERSION:2.0
PRODID:-//RSIF - Region Stockholms IF - ECPv6.15.20//NONSGML v1.0//EN
CALSCALE:GREGORIAN
METHOD:PUBLISH
X-WR-CALNAME:RSIF - Region Stockholms IF
X-ORIGINAL-URL:https://regionstockholmsif.se
X-WR-CALDESC:Händelser för RSIF - Region Stockholms IF
REFRESH-INTERVAL;VALUE=DURATION:PT1H
X-Robots-Tag:noindex
X-PUBLISHED-TTL:PT1H
BEGIN:VTIMEZONE
TZID:Europe/Stockholm
BEGIN:DAYLIGHT
TZOFFSETFROM:+0100
TZOFFSETTO:+0200
TZNAME:CEST
DTSTART:20250330T010000
END:DAYLIGHT
BEGIN:STANDARD
TZOFFSETFROM:+0200
TZOFFSETTO:+0100
TZNAME:CET
DTSTART:20251026T010000
END:STANDARD
BEGIN:DAYLIGHT
TZOFFSETFROM:+0100
TZOFFSETTO:+0200
TZNAME:CEST
DTSTART:20260329T010000
END:DAYLIGHT
BEGIN:STANDARD
TZOFFSETFROM:+0200
TZOFFSETTO:+0100
TZNAME:CET
DTSTART:20261025T010000
END:STANDARD
BEGIN:DAYLIGHT
TZOFFSETFROM:+0100
TZOFFSETTO:+0200
TZNAME:CEST
DTSTART:20270328T010000
END:DAYLIGHT
BEGIN:STANDARD
TZOFFSETFROM:+0200
TZOFFSETTO:+0100
TZNAME:CET
DTSTART:20271031T010000
END:STANDARD
END:VTIMEZONE
BEGIN:VEVENT
DTSTART;TZID=Europe/Stockholm:20260111T100000
DTEND;TZID=Europe/Stockholm:20260111T140000
DTSTAMP:20260422T025926
CREATED:20251230T125655Z
LAST-MODIFIED:20260113T140355Z
UID:10000610-1768125600-1768140000@regionstockholmsif.se
SUMMARY:Söndagspromenad - Genom de södra förorterna
DESCRIPTION:Söndagspromenad – de södra förorterna\, Midsommarkransen\, Telefonplan\, Hägerstensåsen och genom Västertorps skulpturpark. Och därefter till Bredäng / Lyran \nNär: Söndagen den 11 januari 2026 \nSamling: Klockan 10.00 vid Liljeholmens tunnelbana utgång tvärbanan  \nRSIF:s promenadvärdar möter upp. Du känner igen dem på deras neongröna ryggsäckar. \nFör vem:\nPromenaden är för regionanställda som är medlemmar i RSIF.\nDu är varmt välkommen att komma ensam – det gör de flesta och det är en del av idén – eller tillsammans med en familjemedlem eller vän. Minst en i sällskapet måste vara medlem i RSIF. \nPromenaden:\nDe södra förorterna\, midsommarkransen\, telefonplan\, hägerstensåsen och genom Västertorps skulpturpark. Och därefter till Bredäng /Lyran. \nRast:\nVi har en rast då vi fikar inomhus på café i Västertorp. \nVäder:\nKontrollera SMHI:s väderprognos kvällen innan promenaden. Ta vid behov med regnkläder eller broddar om det finns risk för regn eller halt väglag. \nPromenadvärdar: Siw och Ulla \nAvgift:\nDeltagandet är gratis och ingen föranmälan krävs. \nBli medlem i RSIF\nMedlemskap kostar 100 kr och gäller i 12 månader.\nAlla som är anställda inom Region Stockholm\, eller som hade Region Stockholm som sin sista arbetsgivare innan pension\, kan bli medlemmar. \nLäs mer om Söndagspromenaderna och Vandringsnätverket \nPrenumerera på Region Stockholms IF:s nyhetsbrev
URL:https://regionstockholmsif.se/event/sondagspromenad-genom-de-sodra-fororterna/
CATEGORIES:Promenad
ATTACH;FMTTYPE=image/jpeg:https://regionstockholmsif.se/wp-content/uploads/2022/07/20221120_113337_resized-e1767368762424.jpg
ORGANIZER;CN="Region Stockholms IF":MAILTO:kansli@rsif.se
END:VEVENT
BEGIN:VEVENT
DTSTART;TZID=Europe/Stockholm:20260125T100000
DTEND;TZID=Europe/Stockholm:20260125T140000
DTSTAMP:20260422T025926
CREATED:20260102T115357Z
LAST-MODIFIED:20260113T140258Z
UID:10000612-1769335200-1769349600@regionstockholmsif.se
SUMMARY:Söndagspromenad: Farsta strand - Gullmarsplan
DESCRIPTION:När: Söndagen den 25:e januari 2026 \nVar: Vi går från Farsta Strand till Gullmarsplan\, via Hökarängen\, Gubbängen\, Tallkrogen och Sandsborg. \nSamling: 10.00 utanför spärrarna Farsta Strands T-bana eller 10.05 Pendeltågsstationen Farsta Strand\, utgången mot T-banan. \nRSIF:s promenadvärdar möter upp. Du känner igen dem på deras neongröna ryggsäckar. \nFör vem:\nPromenaden är för regionanställda som är medlemmar i RSIF.\nDu är varmt välkommen att komma ensam – det gör de flesta och det är en del av idén – eller tillsammans med en familjemedlem eller vän. Minst en i sällskapet måste vara medlem i RSIF. \nRast: Vi har en rast då vi fikar inomhus på café. \nVäder:\nKontrollera SMHI:s väderprognos kvällen innan promenaden och ta vid behov med regnkläder respektive broddar om det finns risk för regn eller halt väglag. \nPromenadvärdar: Eva och Anneli \nAvgift:\nDeltagandet är gratis och ingen föranmälan krävs. \nBli medlem i RSIF:\nMedlemskap kostar 100 kr och gäller i 12 månader.\nAlla som är anställda inom Region Stockholm\, eller som hade Region Stockholm som sin sista arbetsgivare innan pension\, kan bli medlemmar i RSIF. Lös medlemskap i RSIF här! \nMer information:\nHär kan du läsa mer om Söndagspromenaderna och Promenadnätverket. \nGångstråk Stockholm: \nI Stockholm finns 26 Gångstråk som går utmed kollektivtrafikens spårförbindelser\, så att du lätt kan hoppa på tåget\, tunnelbanan eller spårvagnen om du vill avsluta promenaden tidigare. För mer information se Gångstråk Stockholm – Stockholms stad. \nAmbitionen är att finna gena\, trevliga och säkra gångstråk i lugna miljöer utan bilbuller\, om möjligt i parker och grönområden\, samt utmed vatten och gärna förbi intressanta hus och platser. \nNyhetsbrev:\nVill du ha RSIF:s nyhetsbrev? Registrera dig här. \n 
URL:https://regionstockholmsif.se/event/sondagspromenad-farsta-strand-gullmarsplan/
CATEGORIES:Promenad
ATTACH;FMTTYPE=image/jpeg:https://regionstockholmsif.se/wp-content/uploads/2026/01/bild-Svan-3-scaled-e1767357200814.jpg
ORGANIZER;CN="Region Stockholms IF":MAILTO:kansli@rsif.se
END:VEVENT
END:VCALENDAR