BEGIN:VCALENDAR
VERSION:2.0
PRODID:-//RSIF - Region Stockholms IF - ECPv6.15.20//NONSGML v1.0//EN
CALSCALE:GREGORIAN
METHOD:PUBLISH
X-ORIGINAL-URL:https://regionstockholmsif.se
X-WR-CALDESC:Händelser för RSIF - Region Stockholms IF
REFRESH-INTERVAL;VALUE=DURATION:PT1H
X-Robots-Tag:noindex
X-PUBLISHED-TTL:PT1H
BEGIN:VTIMEZONE
TZID:Europe/Stockholm
BEGIN:DAYLIGHT
TZOFFSETFROM:+0100
TZOFFSETTO:+0200
TZNAME:CEST
DTSTART:20250330T010000
END:DAYLIGHT
BEGIN:STANDARD
TZOFFSETFROM:+0200
TZOFFSETTO:+0100
TZNAME:CET
DTSTART:20251026T010000
END:STANDARD
BEGIN:DAYLIGHT
TZOFFSETFROM:+0100
TZOFFSETTO:+0200
TZNAME:CEST
DTSTART:20260329T010000
END:DAYLIGHT
BEGIN:STANDARD
TZOFFSETFROM:+0200
TZOFFSETTO:+0100
TZNAME:CET
DTSTART:20261025T010000
END:STANDARD
BEGIN:DAYLIGHT
TZOFFSETFROM:+0100
TZOFFSETTO:+0200
TZNAME:CEST
DTSTART:20270328T010000
END:DAYLIGHT
BEGIN:STANDARD
TZOFFSETFROM:+0200
TZOFFSETTO:+0100
TZNAME:CET
DTSTART:20271031T010000
END:STANDARD
END:VTIMEZONE
BEGIN:VEVENT
DTSTART;TZID=Europe/Stockholm:20260625T090000
DTEND;TZID=Europe/Stockholm:20260625T170000
DTSTAMP:20260422T011143
CREATED:20260417T070147Z
LAST-MODIFIED:20260421T115013Z
UID:10001141-1782378000-1782406800@regionstockholmsif.se
SUMMARY:Båtresa med veteranerna
DESCRIPTION:Båtresa Uppsala – Skokloster – Uppsala \nBåten avgår 11.00 från Uppsala. \nPendeltåg från Stockholm avgår 09.08 \nPris med lunch: \n\nMedlemmar veteranklubben 500 kronor\nMedlemmar RSIF 600 kronor\nGäster 745 kronor\n\nAnmäl dig senast 8/6. Max antal 15 stycken.
URL:https://regionstockholmsif.se/event/batresa-med-veteranerna/
CATEGORIES:Båtresa
ATTACH;FMTTYPE=image/jpeg:https://regionstockholmsif.se/wp-content/uploads/2026/04/uppsala_ms-enkoping.jpg
END:VEVENT
END:VCALENDAR