BEGIN:VCALENDAR
VERSION:2.0
PRODID:-//RSIF - Region Stockholms IF - ECPv6.15.20//NONSGML v1.0//EN
CALSCALE:GREGORIAN
METHOD:PUBLISH
X-WR-CALNAME:RSIF - Region Stockholms IF
X-ORIGINAL-URL:https://regionstockholmsif.se
X-WR-CALDESC:Händelser för RSIF - Region Stockholms IF
REFRESH-INTERVAL;VALUE=DURATION:PT1H
X-Robots-Tag:noindex
X-PUBLISHED-TTL:PT1H
BEGIN:VTIMEZONE
TZID:Europe/Stockholm
BEGIN:DAYLIGHT
TZOFFSETFROM:+0100
TZOFFSETTO:+0200
TZNAME:CEST
DTSTART:20240331T010000
END:DAYLIGHT
BEGIN:STANDARD
TZOFFSETFROM:+0200
TZOFFSETTO:+0100
TZNAME:CET
DTSTART:20241027T010000
END:STANDARD
BEGIN:DAYLIGHT
TZOFFSETFROM:+0100
TZOFFSETTO:+0200
TZNAME:CEST
DTSTART:20250330T010000
END:DAYLIGHT
BEGIN:STANDARD
TZOFFSETFROM:+0200
TZOFFSETTO:+0100
TZNAME:CET
DTSTART:20251026T010000
END:STANDARD
BEGIN:DAYLIGHT
TZOFFSETFROM:+0100
TZOFFSETTO:+0200
TZNAME:CEST
DTSTART:20260329T010000
END:DAYLIGHT
BEGIN:STANDARD
TZOFFSETFROM:+0200
TZOFFSETTO:+0100
TZNAME:CET
DTSTART:20261025T010000
END:STANDARD
END:VTIMEZONE
BEGIN:VEVENT
DTSTART;TZID=Europe/Stockholm:20250720T090000
DTEND;TZID=Europe/Stockholm:20250720T170000
DTSTAMP:20260421T230835
CREATED:20250623T082023Z
LAST-MODIFIED:20250623T082023Z
UID:10000488-1753002000-1753030800@regionstockholmsif.se
SUMMARY:Sommarvandring i Nynäshamn
DESCRIPTION:Söndagen den 20:e juli \nKom med på RSIF:s promenadnätverks sommarvandring i Nynäshamn. \nSamling: Tåg från Stockholm City 09:03 alternativt i Nynäshamn station kl 10:05. \nSitt lämpligen i första vagnen. \nVi kommer att promenera i Lövhagens friluftsområde som ligger på en av uddarna i Nynäshamn skärgård. Här kommer vi att vandra igen blandskog samt på kala klippor längs öppet hav. \nTa gärna med badkläder om det blir tillfälle till bad. \nDu är lika välkommen ensam som tillsammans med en vän\, men minst en av er är måste vara medlem i RSIF. Kontrollera alltid SMHIs väder kvällen innan. \nRast: Vi har två raster utomhus\, ta med egen matsäck och fika. \nPromenadvärdar: Ulla \nFör vem: Medlemmar i RSIF 2025\nAlla som jobbar i Region Stockholm kan bli medlemmar\, ett medlemskap kostar 100 kr per kalenderår. \nBli medlem 2025 \nAvgift: Avgiftsfritt och ingen föranmälan krävs. \nHär kan du läsa mera om Söndagspromenaderna och promenadnätverket.
URL:https://regionstockholmsif.se/event/sommarvandring-i-nynashamn/
CATEGORIES:Friluft,Vandring
ORGANIZER;CN="Region Stockholms IF":MAILTO:kansli@rsif.se
END:VEVENT
END:VCALENDAR