BEGIN:VCALENDAR
VERSION:2.0
PRODID:-//RSIF - Region Stockholms IF - ECPv6.15.20//NONSGML v1.0//EN
CALSCALE:GREGORIAN
METHOD:PUBLISH
X-ORIGINAL-URL:https://regionstockholmsif.se
X-WR-CALDESC:Händelser för RSIF - Region Stockholms IF
REFRESH-INTERVAL;VALUE=DURATION:PT1H
X-Robots-Tag:noindex
X-PUBLISHED-TTL:PT1H
BEGIN:VTIMEZONE
TZID:Europe/Stockholm
BEGIN:DAYLIGHT
TZOFFSETFROM:+0100
TZOFFSETTO:+0200
TZNAME:CEST
DTSTART:20240331T010000
END:DAYLIGHT
BEGIN:STANDARD
TZOFFSETFROM:+0200
TZOFFSETTO:+0100
TZNAME:CET
DTSTART:20241027T010000
END:STANDARD
BEGIN:DAYLIGHT
TZOFFSETFROM:+0100
TZOFFSETTO:+0200
TZNAME:CEST
DTSTART:20250330T010000
END:DAYLIGHT
BEGIN:STANDARD
TZOFFSETFROM:+0200
TZOFFSETTO:+0100
TZNAME:CET
DTSTART:20251026T010000
END:STANDARD
BEGIN:DAYLIGHT
TZOFFSETFROM:+0100
TZOFFSETTO:+0200
TZNAME:CEST
DTSTART:20260329T010000
END:DAYLIGHT
BEGIN:STANDARD
TZOFFSETFROM:+0200
TZOFFSETTO:+0100
TZNAME:CET
DTSTART:20261025T010000
END:STANDARD
END:VTIMEZONE
BEGIN:VEVENT
DTSTART;TZID=Europe/Stockholm:20250914T110000
DTEND;TZID=Europe/Stockholm:20250914T143000
DTSTAMP:20260422T124545
CREATED:20250901T130637Z
LAST-MODIFIED:20250910T133155Z
UID:10000550-1757847600-1757860200@regionstockholmsif.se
SUMMARY:Svamputflykt till Visättra\, Flemingsberg
DESCRIPTION:Vi träffas vid Visättra sportcenter klockan 11.00. Vår svampguide Cecilia tar med oss ut i skogen\, hon lär oss vilka svampar vi kan plocka och vilka vi ska undvika. Kom ihåg att ta med svampkorg\, svampbok och kniv. Medtag egen matsäck/lunch. \nNär: Söndag 14 september \nVar: Samlingsplats: Visättra sportcenter \nTid: 11.00 – ca 14.30 \nSista anmälningsdag: 13 september. Anmäl dig här. \nKostnad \nMedlem i Sektion Lindhagen: 200 kr/person \nMedlem i annan sektion inom RSIF eller övriga: 300 kr/person \nÖvriga: Du som är medlem kan ta med dig familj och vänner\, de betalar fullt pris\, 300 kr/person. \nMax antal deltagare är 20 personer – först till kvarn gäller! \nBokningsvillkor: Anmälan är bindande men kan överlåtas. \n  \nKontakt \nArrangör för svamputflykten är Sektion Lindhagen\, en del av Region Stockholms idrotts- och friskvårdsförening (RSIF). \nFör frågor: Linnéa Karlsson Lind e-post linnea.karlsson-lind@regionstockholm.se telefon 08-123 135 84 \nVi ses!
URL:https://regionstockholmsif.se/event/svamputflykt-till-visattra-flemingsberg-3/
CATEGORIES:Friluft
ATTACH;FMTTYPE=image/jpeg:https://regionstockholmsif.se/wp-content/uploads/2021/09/svamp-kopiera-2.jpg
END:VEVENT
END:VCALENDAR