BEGIN:VCALENDAR
VERSION:2.0
PRODID:-//RSIF - Region Stockholms IF - ECPv6.15.20//NONSGML v1.0//EN
CALSCALE:GREGORIAN
METHOD:PUBLISH
X-WR-CALNAME:RSIF - Region Stockholms IF
X-ORIGINAL-URL:https://regionstockholmsif.se
X-WR-CALDESC:Händelser för RSIF - Region Stockholms IF
REFRESH-INTERVAL;VALUE=DURATION:PT1H
X-Robots-Tag:noindex
X-PUBLISHED-TTL:PT1H
BEGIN:VTIMEZONE
TZID:Europe/Stockholm
BEGIN:DAYLIGHT
TZOFFSETFROM:+0100
TZOFFSETTO:+0200
TZNAME:CEST
DTSTART:20240331T010000
END:DAYLIGHT
BEGIN:STANDARD
TZOFFSETFROM:+0200
TZOFFSETTO:+0100
TZNAME:CET
DTSTART:20241027T010000
END:STANDARD
BEGIN:DAYLIGHT
TZOFFSETFROM:+0100
TZOFFSETTO:+0200
TZNAME:CEST
DTSTART:20250330T010000
END:DAYLIGHT
BEGIN:STANDARD
TZOFFSETFROM:+0200
TZOFFSETTO:+0100
TZNAME:CET
DTSTART:20251026T010000
END:STANDARD
BEGIN:DAYLIGHT
TZOFFSETFROM:+0100
TZOFFSETTO:+0200
TZNAME:CEST
DTSTART:20260329T010000
END:DAYLIGHT
BEGIN:STANDARD
TZOFFSETFROM:+0200
TZOFFSETTO:+0100
TZNAME:CET
DTSTART:20261025T010000
END:STANDARD
END:VTIMEZONE
BEGIN:VEVENT
DTSTART;TZID=Europe/Stockholm:20251005T100000
DTEND;TZID=Europe/Stockholm:20251005T140000
DTSTAMP:20260422T092737
CREATED:20250815T194705Z
LAST-MODIFIED:20250929T111608Z
UID:10000533-1759658400-1759672800@regionstockholmsif.se
SUMMARY:Vandring i Bagarmossen - Hellasgården
DESCRIPTION:Söndagen den 5 oktober \nKom med på RSIF:s promenadnätverks vandring genom Nackareservatet som är ett av landets mest välbesökta friluftsområden och här finns oändligt med möjligheter till rekreation och friluftsliv. \nSamling:\nKlockan 10.00 utan spärrarna vid T-banan Bagarmossen\, där RSIFs promenadvärdar möter upp\, du känner igen dem på de neongröna ryggsäckar. \nDu är lika välkommen ensam som tillsammans med en familjemedlem eller vän\, men minst en av er är måste vara medlem i RSIF. \nKontrollera alltid SMHIs väder kvällen innan och ta med kläder efter väder. \nRast: Vi har två raster utomhus\, ta med egen matsäck och fika. \nPromenadvärdar: Siw och Ulla \nFör vem: Medlemmar i RSIF 2025\nAlla som jobbar i Region Stockholm kan bli medlemmar\, ett medlemskap kostar 100 kr per kalenderår. \nBli medlem 2025! Logga in med ditt BankID eller e-post och lösenord. \nAvgift: Avgiftsfritt och ingen föranmälan krävs. \nHär kan du läsa mera om Söndagspromenaderna och promenadnätverket.
URL:https://regionstockholmsif.se/event/vandring-i-bagarmossen-hellasgarden/
CATEGORIES:Friluft,Vandring
ATTACH;FMTTYPE=image/jpeg:https://regionstockholmsif.se/wp-content/uploads/2025/01/Bild1.jpg
ORGANIZER;CN="Region Stockholms IF":MAILTO:kansli@rsif.se
END:VEVENT
END:VCALENDAR