BEGIN:VCALENDAR
VERSION:2.0
PRODID:-//RSIF - Region Stockholms IF - ECPv6.15.20//NONSGML v1.0//EN
CALSCALE:GREGORIAN
METHOD:PUBLISH
X-ORIGINAL-URL:https://regionstockholmsif.se
X-WR-CALDESC:Händelser för RSIF - Region Stockholms IF
REFRESH-INTERVAL;VALUE=DURATION:PT1H
X-Robots-Tag:noindex
X-PUBLISHED-TTL:PT1H
BEGIN:VTIMEZONE
TZID:Europe/Stockholm
BEGIN:DAYLIGHT
TZOFFSETFROM:+0100
TZOFFSETTO:+0200
TZNAME:CEST
DTSTART:20250330T010000
END:DAYLIGHT
BEGIN:STANDARD
TZOFFSETFROM:+0200
TZOFFSETTO:+0100
TZNAME:CET
DTSTART:20251026T010000
END:STANDARD
BEGIN:DAYLIGHT
TZOFFSETFROM:+0100
TZOFFSETTO:+0200
TZNAME:CEST
DTSTART:20260329T010000
END:DAYLIGHT
BEGIN:STANDARD
TZOFFSETFROM:+0200
TZOFFSETTO:+0100
TZNAME:CET
DTSTART:20261025T010000
END:STANDARD
BEGIN:DAYLIGHT
TZOFFSETFROM:+0100
TZOFFSETTO:+0200
TZNAME:CEST
DTSTART:20270328T010000
END:DAYLIGHT
BEGIN:STANDARD
TZOFFSETFROM:+0200
TZOFFSETTO:+0100
TZNAME:CET
DTSTART:20271031T010000
END:STANDARD
END:VTIMEZONE
BEGIN:VEVENT
DTSTART;TZID=Europe/Stockholm:20260506T110000
DTEND;TZID=Europe/Stockholm:20260506T150000
DTSTAMP:20260421T232113
CREATED:20260409T085036Z
LAST-MODIFIED:20260409T085036Z
UID:10001133-1778065200-1778079600@regionstockholmsif.se
SUMMARY:Veteranklubben - Vandring till Vinterviken
DESCRIPTION:Datum: 6 maj 2026 \nVandring längs sjön Trekanten till Vinterviken. \nSamling: 11.00 vid T-bana Liljeholmen utgång tvärbanan. \nVi fikar på café vid Vinterviken. \nLedare: Siw Wåle och Eira Fuchs. \nIngen anmälan behövs
URL:https://regionstockholmsif.se/event/veteranklubben-vandring-till-vinterviken/
CATEGORIES:Promenad
ATTACH;FMTTYPE=image/png:https://regionstockholmsif.se/wp-content/uploads/2025/08/Veteranklubben.png
END:VEVENT
BEGIN:VEVENT
DTSTART;VALUE=DATE:20260510
DTEND;VALUE=DATE:20260511
DTSTAMP:20260421T232113
CREATED:20260212T143822Z
LAST-MODIFIED:20260420T091111Z
UID:10001107-1778371200-1778457599@regionstockholmsif.se
SUMMARY:Söndagspromenad: 5 sjöar
DESCRIPTION:När: Observera datum!! Söndagen den 10:e maj 2026  \nVar: Vi går via Sickla sjö\, Järla sjö\, Dammtorpssjön\, Källtorpssjön (Hellasgården där man kan avsluta om man önskar) Söderbysjön tillbaka till Björkhagen. \nSamling: 10.00 Hammarbyhöjdens T-bana\, utgång mot Ulricehamsvägen utanför spärrarna där RSIF:s promenadvärdar möter upp\, du känner igen dem på deras neongröna ryggsäckar. \nFör vem:\nPromenaden är för regionanställda som är medlemmar i RSIF.\nDu är varmt välkommen att komma ensam – det gör de flesta och det är en del av idén – eller tillsammans med en familjemedlem eller vän. Minst en i sällskapet måste vara medlem i RSIF. \nRast: Vi har två raster utomhus. Ta med egen matsäck och fika. \nVäder:\nKontrollera SMHI:s väderprognos kvällen innan promenaden och ta vid behov med regnkläder. \nPromenadvärdar: Ulla \nAvgift:\nDeltagandet är gratis och ingen föranmälan krävs. \nBli medlem i RSIF:\nMedlemskap kostar 100 kr och gäller i 12 månader.\nAlla som är anställda inom Region Stockholm\, eller som hade Region Stockholm som sin sista arbetsgivare innan pension\, kan bli medlemmar i RSIF. Lös medlemskap i RSIF här! \nMer information:\nHär kan du läsa mer om Söndagspromenaderna och Promenadnätverket. \nNyhetsbrev:\nVill du ha RSIF:s nyhetsbrev? Registrera dig här.
URL:https://regionstockholmsif.se/event/sondagspromenad-5-sjoar/
CATEGORIES:Promenad
ATTACH;FMTTYPE=image/jpeg:https://regionstockholmsif.se/wp-content/uploads/2026/02/Varbild.jpg
ORGANIZER;CN="RSIFs promenadn%C3%A4tverk":MAILTO:anneli.karlman@regionstockholm.se
END:VEVENT
END:VCALENDAR