BEGIN:VCALENDAR
VERSION:2.0
PRODID:-//RSIF - Region Stockholms IF - ECPv6.15.20//NONSGML v1.0//EN
CALSCALE:GREGORIAN
METHOD:PUBLISH
X-WR-CALNAME:RSIF - Region Stockholms IF
X-ORIGINAL-URL:https://regionstockholmsif.se
X-WR-CALDESC:Händelser för RSIF - Region Stockholms IF
REFRESH-INTERVAL;VALUE=DURATION:PT1H
X-Robots-Tag:noindex
X-PUBLISHED-TTL:PT1H
BEGIN:VTIMEZONE
TZID:Europe/Stockholm
BEGIN:DAYLIGHT
TZOFFSETFROM:+0100
TZOFFSETTO:+0200
TZNAME:CEST
DTSTART:20250330T010000
END:DAYLIGHT
BEGIN:STANDARD
TZOFFSETFROM:+0200
TZOFFSETTO:+0100
TZNAME:CET
DTSTART:20251026T010000
END:STANDARD
BEGIN:DAYLIGHT
TZOFFSETFROM:+0100
TZOFFSETTO:+0200
TZNAME:CEST
DTSTART:20260329T010000
END:DAYLIGHT
BEGIN:STANDARD
TZOFFSETFROM:+0200
TZOFFSETTO:+0100
TZNAME:CET
DTSTART:20261025T010000
END:STANDARD
BEGIN:DAYLIGHT
TZOFFSETFROM:+0100
TZOFFSETTO:+0200
TZNAME:CEST
DTSTART:20270328T010000
END:DAYLIGHT
BEGIN:STANDARD
TZOFFSETFROM:+0200
TZOFFSETTO:+0100
TZNAME:CET
DTSTART:20271031T010000
END:STANDARD
END:VTIMEZONE
BEGIN:VEVENT
DTSTART;TZID=Europe/Stockholm:20260504T163000
DTEND;TZID=Europe/Stockholm:20260504T180000
DTSTAMP:20260423T044607
CREATED:20260401T112956Z
LAST-MODIFIED:20260401T115439Z
UID:10001131-1777912200-1777917600@regionstockholmsif.se
SUMMARY:Fotbollsträning vid Danderyds sjukhus - start 4 maj
DESCRIPTION:Regions Stockholms IF bjuder in till fotbollsträning vid Danderyds sjukhus med start den 4 maj. Träningarna hålls varje måndag kl. 16:30–18:00 och leds av en erfaren ledare.\nUnder passen får du som deltagare möjlighet att utveckla ditt spel genom tips\, övningar och feedback.\nFokus ligger på att ha roligt och bli bättre tillsammans – en stor del av träningen består av matchspel. \nPraktisk information: \n\nUnderlaget är gräs\nMedtag lämpliga skor och fylld vattenflaska\nMöjlighet till dusch och omklädningsrum finns inte\n\nDu är varmt välkommen att delta oavsett tidigare erfarenhet! \nFör vem:  Region Stockholms medarbetare med aktivt medlemskap i RSIF\nBli medlem \nNär: fyra måndagar i maj med start den 4 maj \nTid: 16:30 – 18.00 \nVar: Danderyds sjukhus gräsplan (mer detaljerad info kommer) \nBetalsätt: kort\, swish och Epassi\nFotboll är är en friskvårdsgrundande aktivitet. Vill du använda ditt friskvårdsbidrag kan du betala via Epassi.
URL:https://regionstockholmsif.se/event/fotbollstraning-vid-danderyds-sjukhus-start-4-maj/
LOCATION:Danderyds sjukhus\, Entrévägen 2\, S tockholm\, 182 88
CATEGORIES:Fotboll
ATTACH;FMTTYPE=image/jpeg:https://regionstockholmsif.se/wp-content/uploads/2026/04/giero-saaski-HPus1oCcOdk-unsplash2-scaled-e1775043766486.jpg
ORGANIZER;CN="Region Stockholms IF":MAILTO:kansli@rsif.se
END:VEVENT
END:VCALENDAR