BEGIN:VCALENDAR
VERSION:2.0
PRODID:-//RSIF - Region Stockholms IF - ECPv6.15.20//NONSGML v1.0//EN
CALSCALE:GREGORIAN
METHOD:PUBLISH
X-WR-CALNAME:RSIF - Region Stockholms IF
X-ORIGINAL-URL:https://regionstockholmsif.se
X-WR-CALDESC:Händelser för RSIF - Region Stockholms IF
REFRESH-INTERVAL;VALUE=DURATION:PT1H
X-Robots-Tag:noindex
X-PUBLISHED-TTL:PT1H
BEGIN:VTIMEZONE
TZID:Europe/Stockholm
BEGIN:DAYLIGHT
TZOFFSETFROM:+0100
TZOFFSETTO:+0200
TZNAME:CEST
DTSTART:20240331T010000
END:DAYLIGHT
BEGIN:STANDARD
TZOFFSETFROM:+0200
TZOFFSETTO:+0100
TZNAME:CET
DTSTART:20241027T010000
END:STANDARD
BEGIN:DAYLIGHT
TZOFFSETFROM:+0100
TZOFFSETTO:+0200
TZNAME:CEST
DTSTART:20250330T010000
END:DAYLIGHT
BEGIN:STANDARD
TZOFFSETFROM:+0200
TZOFFSETTO:+0100
TZNAME:CET
DTSTART:20251026T010000
END:STANDARD
BEGIN:DAYLIGHT
TZOFFSETFROM:+0100
TZOFFSETTO:+0200
TZNAME:CEST
DTSTART:20260329T010000
END:DAYLIGHT
BEGIN:STANDARD
TZOFFSETFROM:+0200
TZOFFSETTO:+0100
TZNAME:CET
DTSTART:20261025T010000
END:STANDARD
END:VTIMEZONE
BEGIN:VEVENT
DTSTART;TZID=Europe/Stockholm:20251210T173000
DTEND;TZID=Europe/Stockholm:20251210T190000
DTSTAMP:20260420T130921
CREATED:20251125T121121Z
LAST-MODIFIED:20260113T140456Z
UID:10000593-1765387800-1765393200@regionstockholmsif.se
SUMMARY:Julkrans workshop - Karolinska Solna
DESCRIPTION:Vi får igång julkänslan genom att skapa julkransar tillsammans.  \nDenna gång med blomsterstudion FLWRS. \nTid: 10 december kl 17.30-19.00\nPlats: Hallvägen 5 i Slakthusområdet\, nära Globen. \nPris: 400kr/person. Subventionerat pris för medlemmar i sektion Karolinska Solna \nIngången till oss är på kortsidan av huset\, vid den stora Slakthusområdet-skylten.\nRing om ni inte hittar\, det byggs om en del i området just nu – 0704914014.  \nÖvrigt: Allt material finns på plats och du får ta med din egengjorda krans hem. Fika ingår. 
URL:https://regionstockholmsif.se/event/julkrans-workshop-karolinska-solna/
LOCATION:FLWRS\, Hallvägen 5\, Johanneshov\, 121 62
CATEGORIES:Hantverk
ATTACH;FMTTYPE=image/jpeg:https://regionstockholmsif.se/wp-content/uploads/2025/11/christmas-4707042_1920.jpg
ORGANIZER;CN="Sektion Karolinska Solna":MAILTO:caroline.mollermark@regionstockholm.se
END:VEVENT
END:VCALENDAR