BEGIN:VCALENDAR
VERSION:2.0
PRODID:-//RSIF - Region Stockholms IF - ECPv6.15.20//NONSGML v1.0//EN
CALSCALE:GREGORIAN
METHOD:PUBLISH
X-WR-CALNAME:RSIF - Region Stockholms IF
X-ORIGINAL-URL:https://regionstockholmsif.se
X-WR-CALDESC:Händelser för RSIF - Region Stockholms IF
REFRESH-INTERVAL;VALUE=DURATION:PT1H
X-Robots-Tag:noindex
X-PUBLISHED-TTL:PT1H
BEGIN:VTIMEZONE
TZID:Europe/Stockholm
BEGIN:DAYLIGHT
TZOFFSETFROM:+0100
TZOFFSETTO:+0200
TZNAME:CEST
DTSTART:20240331T010000
END:DAYLIGHT
BEGIN:STANDARD
TZOFFSETFROM:+0200
TZOFFSETTO:+0100
TZNAME:CET
DTSTART:20241027T010000
END:STANDARD
BEGIN:DAYLIGHT
TZOFFSETFROM:+0100
TZOFFSETTO:+0200
TZNAME:CEST
DTSTART:20250330T010000
END:DAYLIGHT
BEGIN:STANDARD
TZOFFSETFROM:+0200
TZOFFSETTO:+0100
TZNAME:CET
DTSTART:20251026T010000
END:STANDARD
BEGIN:DAYLIGHT
TZOFFSETFROM:+0100
TZOFFSETTO:+0200
TZNAME:CEST
DTSTART:20260329T010000
END:DAYLIGHT
BEGIN:STANDARD
TZOFFSETFROM:+0200
TZOFFSETTO:+0100
TZNAME:CET
DTSTART:20261025T010000
END:STANDARD
BEGIN:DAYLIGHT
TZOFFSETFROM:+0100
TZOFFSETTO:+0200
TZNAME:CEST
DTSTART:20270328T010000
END:DAYLIGHT
BEGIN:STANDARD
TZOFFSETFROM:+0200
TZOFFSETTO:+0100
TZNAME:CET
DTSTART:20271031T010000
END:STANDARD
END:VTIMEZONE
BEGIN:VEVENT
DTSTART;TZID=Europe/Stockholm:20260324T180000
DTEND;TZID=Europe/Stockholm:20260324T200000
DTSTAMP:20260420T170554
CREATED:20251107T155352Z
LAST-MODIFIED:20260310T171013Z
UID:10000589-1774375200-1774382400@regionstockholmsif.se
SUMMARY:Fotoklubben Månadsträff Mars
DESCRIPTION:Månadsträff fotoklubben tisdagen den 24 mars\n• Vi lär av varandra; ljussättning med Kim. Hur fotar vi med det ljus som finns?\n• Aprilträﬀen ”årsavstämning” med val av ledning. Anmäl gärna ditt intresse om du vill vara aktiv i ledningsgruppen\n• Vardagslediga. Tankar om ny grupp. Anmäl gärna ditt intresse.\n• Bilddiskussion; mars temabild\n• Val av månadens bild april \nVåra träffar är på Karolinskas administrativa avdelning\, Eugeniavägen 18 C\, 5 tr\, klockan 18:00-20:00.\nKaffe finns. Ta med dig eget tilltugg om du önskar.\nOBS! Porten låses kl 18\, kommer du senare ring Johan 070-9449234. \nMånadens bild\n1 bild/fotograf mejlas till foton@rsiffoto.se\nFormatet ska vara jpg. med längsta sidan 1200 pixlar.\nDöp filen till namn.bildnr.jpg (ex. Marie action 1.jpg).
URL:https://regionstockholmsif.se/event/fotoklubben-manadstraff-mars/
LOCATION:Karolinskas administrativa avdelning\, Eugeniavägen 18 C\, 5 tr\, Solna
CATEGORIES:Foto
ATTACH;FMTTYPE=image/jpeg:https://regionstockholmsif.se/wp-content/uploads/2026/02/NJF_5501.jpg
ORGANIZER;CN="RSIF Fotoklubb":MAILTO:info@rsiffoto.se
END:VEVENT
BEGIN:VEVENT
DTSTART;TZID=Europe/Stockholm:20260219T180000
DTEND;TZID=Europe/Stockholm:20260219T200000
DTSTAMP:20260420T170554
CREATED:20251107T155235Z
LAST-MODIFIED:20260214T184134Z
UID:10000590-1771524000-1771531200@regionstockholmsif.se
SUMMARY:Fotoklubben Månadsträff Februari
DESCRIPTION:Innehåll denna gång:\n\nVi lär av varandra – Pelle talar teknik\nHur fotar vi bäst fåglar – Åza\nGenomgång av RSFs hemsida\nBilddiskussion; februaris temabild\nVal av mars temabild\n\nVåra träffar är på Karolinskas administrativa avdelning\, Eugeniavägen 18 C\, 5 tr\, klockan 18:00-20:00.\nKaffe finns. Ta med dig eget tilltugg om du önskar.\nOBS! Porten låses kl 18\, kommer du senare ring Johan 070-9449234. \nMånadens bild\n1 bild/fotograf mejlas till foton@rsiffoto.se\nFormatet ska vara jpg. med längsta sidan 1200 pixlar.\nDöp filen till namn.bildnr.jpg (ex. Marie action 1.jpg). \nLogga in för anmälan
URL:https://regionstockholmsif.se/event/fotoklubben-manadstraff-februari/
LOCATION:Karolinskas administrativa avdelning\, Eugeniavägen 18 C\, 5 tr\, Solna
CATEGORIES:Foto
ATTACH;FMTTYPE=image/jpeg:https://regionstockholmsif.se/wp-content/uploads/2024/01/NJF_4325-e1767780923463.jpg
ORGANIZER;CN="RSIF Fotoklubb":MAILTO:info@rsiffoto.se
END:VEVENT
BEGIN:VEVENT
DTSTART;TZID=Europe/Stockholm:20260121T180000
DTEND;TZID=Europe/Stockholm:20260121T200000
DTSTAMP:20260420T170554
CREATED:20251107T154940Z
LAST-MODIFIED:20260115T184641Z
UID:10000586-1769018400-1769025600@regionstockholmsif.se
SUMMARY:RSIFfoto Månadsträff Januari 2025
DESCRIPTION:Innehåll denna gång:\n\nVi lär av varandra; streetfotografering med Johan inför 24/1-26\nMini foto-maran\, prisutdelning och bildvisning – Lasse\nBilddiskussion; januaris temabild\nVal av månadens bild februari\n\nVåra träffar är på Karolinskas administrativa avdelning\, Eugeniavägen 18 C\, 5 tr\, klockan 18:00-20:00.\nKaffe finns. Ta med dig eget tilltugg om du önskar.\nOBS! Porten låses kl 18\, kommer du senare ring Johan 070-9449234. \nMånadens bild\n1-2 bilder/fotograf mejlas till foton@rsiffoto.se\nFormatet ska vara jpg. med längsta sidan 1200 pixlar.\nDöp filen till namn.bildnr.jpg (ex. Marie action 1.jpg). \nAnmälan nedan
URL:https://regionstockholmsif.se/event/rsiffoto-manadstraff-januari-2025/
LOCATION:Karolinskas administrativa avdelning\, Eugeniavägen 18 C\, 5 tr\, Solna
CATEGORIES:Foto
ATTACH;FMTTYPE=image/jpeg:https://regionstockholmsif.se/wp-content/uploads/2025/03/DSCF1085-2-e1767369263626.jpg
ORGANIZER;CN="RSIF Fotoklubb":MAILTO:info@rsiffoto.se
END:VEVENT
BEGIN:VEVENT
DTSTART;TZID=Europe/Stockholm:20260115T180000
DTEND;TZID=Europe/Stockholm:20260115T210000
DTSTAMP:20260420T170554
CREATED:20251207T153834Z
LAST-MODIFIED:20260113T140347Z
UID:10000597-1768500000-1768510800@regionstockholmsif.se
SUMMARY:Bildredigering i Lightroom Classic
DESCRIPTION:RSIF’s Fotoklubb tillsammans med Jonathan Stenvall bjuder in till bildredigering i Lightroom Classic. Kursen är uppdelad på två tillfällen 15 januari kl 1800 – 2100 och 22 januari 1800 – 2100 \n\n\n\n\nBemästra redigering\, organisering och bildspel i Lightroom Classic  \n\n\n\n\n\n\n\n\nLightroom är programmet som samlar flera viktiga funktioner i samma program vilket gör det till fotografens bästa medhjälpare när det är dags att organisera\, redigera eller visa upp dina bilder. Lär dig bemästra programmets viktigaste funktioner och trix. \n\n\n\n\n\n\n\n\nKursen innehåller bland annat… \n\nLär dig bemästra grunderna i Lightroom Classic  \nAvancerade funktioner som tar dig längre \nStruktur\, ordning\, redigering och arbetsflöde i programmet \nHantera färger\, kontrast och exponering \nSkapa ett bildspel  \nIndividuell handledning\nTips\, trix och feedback från fotograf \n\nTag med din dator som förstås har Lightroom installerat och klart \n\n\n\n \n\n\n\nLogga in för att köpa biljett\n\n\n\n\n\n\n\n\n\n\nOm du är medlem i RSIF måste du logga in innan du köper biljett.\nOm du är medlem men inte inloggad måste du logga in innan du beställer en biljett.\nOm du är medlem men ännu inte lagt in personligt lösenord klickar du på ”Byt lösenord”.\nOm du ännu inte är medlem måste du först bli medlem i RSIF \n 
URL:https://regionstockholmsif.se/event/bildredigering-i-lightroom-classic/
LOCATION:Karolinskas administrativa avdelning\, Eugeniavägen 18 C\, 5 tr\, Solna
CATEGORIES:Foto
ATTACH;FMTTYPE=image/png:https://regionstockholmsif.se/wp-content/uploads/2026/01/Foto-16x9-1.png
ORGANIZER;CN="RSIF Fotoklubb":MAILTO:info@rsiffoto.se
END:VEVENT
BEGIN:VEVENT
DTSTART;TZID=Europe/Stockholm:20251211T180000
DTEND;TZID=Europe/Stockholm:20251211T200000
DTSTAMP:20260420T170554
CREATED:20251008T070517Z
LAST-MODIFIED:20260113T140432Z
UID:10000574-1765476000-1765483200@regionstockholmsif.se
SUMMARY:RSIFfoto Månadsträff
DESCRIPTION:Julavslutning med glögg och lussebullar\n\nÅret som gått\nEnkäten presenteras\nVad är på gång 2026\nFotoutställning Timmermansgården\nBilddiskussion; december temabild\nVal av månadens bild januari; ljus eller rofyllt\n\nVåra träffar är på Karolinskas administrativa avdelning\, Eugeniavägen 18 C\, 5 tr\, klockan 18:00-20:00.\nKaffe finns. Ta med dig eget tilltugg om du önskar.\nOBS! Porten låses kl 18\, kommer du senare ring Johan 070-9449234. \nMånadens bild\n1-2 bilder/fotograf mejlas till foton@rsiffoto.se\nFormatet ska vara jpg. med längsta sidan 1200 pixlar.\nDöp filen till namn.bildnr.jpg (ex. Marie action 1.jpg) \nLogga in för att boka biljett
URL:https://regionstockholmsif.se/event/rsiffoto-manadstraff-3/
LOCATION:Karolinskas administrativa avdelning\, Eugeniavägen 18 C\, 5 tr\, Solna
CATEGORIES:Foto
ATTACH;FMTTYPE=image/jpeg:https://regionstockholmsif.se/wp-content/uploads/2025/12/NJF_4478.jpg
ORGANIZER;CN="RSIF Fotoklubb":MAILTO:info@rsiffoto.se
END:VEVENT
BEGIN:VEVENT
DTSTART;TZID=Europe/Stockholm:20251125T180000
DTEND;TZID=Europe/Stockholm:20251125T200000
DTSTAMP:20260420T170554
CREATED:20251008T070334Z
LAST-MODIFIED:20260113T140957Z
UID:10000573-1764093600-1764100800@regionstockholmsif.se
SUMMARY:RSIFfoto Månadsträff
DESCRIPTION:Innehåll denna gång:\n\nVi lär av varandra. Anders och Lena visar bilder från sin fotoresa till Jämtlands Tajgaskog\nMörkerfotografering. Tips – hur vi ställer in kameran för att få en bild\nBilddiskussion; novembers temabild ”höst”\nVal av månadens bild december; rött/ sött\nBildvisning; Hagaparken ”berätta om en plats”\nUtställningsgrupp informerar; Agneta\, Lena\, Kristina och Marie\n\nVåra träffar är på Karolinskas administrativa avdelning\, Eugeniavägen 18 C\, 5 tr\, klockan 18:00-20:00.\nKaffe finns. Ta med dig eget tilltugg om du önskar.\nOBS! Porten låses kl 18\, kommer du senare ring Johan 070-9449234. \nMånadens bild\n1-2 bilder/fotograf mejlas till foton@rsiffoto.se\nFormatet ska vara jpg. med längsta sidan 1200 pixlar.\nDöp filen till namn.bildnr.jpg (ex. Marie action 1.jpg). \nAnmälan; via mejl till aktiviteter@rsiffoto.se 
URL:https://regionstockholmsif.se/event/rsiffoto-manadstraff-2/
LOCATION:Karolinskas administrativa avdelning\, Eugeniavägen 18 C\, 5 tr\, Solna
CATEGORIES:Foto
ATTACH;FMTTYPE=image/png:https://regionstockholmsif.se/wp-content/uploads/2025/10/Fotoklubben-logotyp.png
ORGANIZER;CN="RSIF Fotoklubb":MAILTO:info@rsiffoto.se
END:VEVENT
BEGIN:VEVENT
DTSTART;TZID=Europe/Stockholm:20251023T180000
DTEND;TZID=Europe/Stockholm:20251023T200000
DTSTAMP:20260420T170554
CREATED:20251008T065302Z
LAST-MODIFIED:20260113T141343Z
UID:10000571-1761242400-1761249600@regionstockholmsif.se
SUMMARY:RSIFfoto Månadsträff
DESCRIPTION:Innehåll denna gång:\n\nVi lär av varandra. Åza visar bilder och berättar om att fotografera i gömsle\nBilddiskussion; oktobers temabild ”Min morgon”\nVal av månadens bild november; svampar/ höst/ blött\nBildvisning; Hagaparken\nUtställningsgrupp\n\nVåra träffar är på Karolinskas administrativa avdelning\, Eugeniavägen 18 C\, 5 tr\, klockan\n18:00-20:00. Kaffe finns. Ta med dig eget tilltugg om du önskar.\nOBS\, porten låses kl 18\, kommer du senare ring Johan 070-9449234. \nMånadens bild\n1-2 bilder/fotograf mejlas till foton@rsiffoto.se\nFormatet ska vara jpg. med längsta sidan 1200 pixlar.\nDöp filen till namn.bildnr.jpg (ex. Marie action 1.jpg). \nAnmälan; via mejl till aktiviteter@rsiffoto.se 
URL:https://regionstockholmsif.se/event/rsiffoto-manadstraff/
LOCATION:Karolinskas administrativa avdelning\, Eugeniavägen 18 C\, 5 tr\, Solna
CATEGORIES:Foto
ATTACH;FMTTYPE=image/png:https://regionstockholmsif.se/wp-content/uploads/2025/10/Fotoklubben-logotyp.png
ORGANIZER;CN="RSIF Fotoklubb":MAILTO:info@rsiffoto.se
END:VEVENT
END:VCALENDAR